BEGIN:VCALENDAR
VERSION:2.0
PRODID:-//TYPO3/NONSGML Calendarize//EN
BEGIN:VEVENT
UID:calendarize-110-c-erleben-was-kaeltetherapie-wirklich-kann
DTSTAMP:20260421T171702Z
DTSTART:20260516T110000Z
DTEND:20260516T143000Z
SUMMARY:-110 °C erleben – was Kältetherapie wirklich kann
DESCRIPTION:Eisige Temperaturen\, starke Effekte: Kältetherapie liegt im 
 Trend – doch was steckt wirklich dahinter? Antworten und eine besondere 
 Selbsterfahrung bietet unser Workshop am 16. Mai im Immanuel Krankenhaus B
 erlin\, Standort Wannsee.
X-ALT-DESC;FMTTYPE=text/html:<p>Eisige Temperaturen\, starke Effekte: Käl
 tetherapie liegt im Trend – doch was steckt wirklich dahinter? Antworten
  und eine besondere Selbsterfahrung bietet unser Workshop am 16. Mai im Im
 manuel Krankenhaus Berlin\, Standort Wannsee.</p>
LOCATION:Festsaal (Erdgeschoss)
END:VEVENT
END:VCALENDAR
